BEGIN:VCALENDAR
VERSION:2.0
PRODID:-//Gloucestershire Primary Care Workforce Centre - ECPv6.15.17.1//NONSGML v1.0//EN
CALSCALE:GREGORIAN
METHOD:PUBLISH
X-WR-CALNAME:Gloucestershire Primary Care Workforce Centre
X-ORIGINAL-URL:https://glosprimarycare.co.uk
X-WR-CALDESC:Events for Gloucestershire Primary Care Workforce Centre
REFRESH-INTERVAL;VALUE=DURATION:PT1H
X-Robots-Tag:noindex
X-PUBLISHED-TTL:PT1H
BEGIN:VTIMEZONE
TZID:Europe/London
BEGIN:DAYLIGHT
TZOFFSETFROM:+0000
TZOFFSETTO:+0100
TZNAME:BST
DTSTART:20250330T010000
END:DAYLIGHT
BEGIN:STANDARD
TZOFFSETFROM:+0100
TZOFFSETTO:+0000
TZNAME:GMT
DTSTART:20251026T010000
END:STANDARD
BEGIN:DAYLIGHT
TZOFFSETFROM:+0000
TZOFFSETTO:+0100
TZNAME:BST
DTSTART:20260329T010000
END:DAYLIGHT
BEGIN:STANDARD
TZOFFSETFROM:+0100
TZOFFSETTO:+0000
TZNAME:GMT
DTSTART:20261025T010000
END:STANDARD
BEGIN:DAYLIGHT
TZOFFSETFROM:+0000
TZOFFSETTO:+0100
TZNAME:BST
DTSTART:20270328T010000
END:DAYLIGHT
BEGIN:STANDARD
TZOFFSETFROM:+0100
TZOFFSETTO:+0000
TZNAME:GMT
DTSTART:20271031T010000
END:STANDARD
END:VTIMEZONE
BEGIN:VEVENT
DTSTART;TZID=Europe/London:20260430T093000
DTEND;TZID=Europe/London:20260430T120000
DTSTAMP:20260424T123104
CREATED:20260423T131629Z
LAST-MODIFIED:20260423T133153Z
UID:10001585-1777541400-1777550400@glosprimarycare.co.uk
SUMMARY:Confident & Positive Patient Communication in Primary Care
DESCRIPTION:This practical workshop helps primary care teams understand how NHS changes and rising patient expectations affect everyday patient interactions. Participants explore how perceptions\, assumptions and the impact of change can influence communication and patient experience. The session explores practical skills such as positive language\, empathy and assertiveness to help staff communicate clearly\, guide patients effectively and hold boundaries professionally. \nFree Workshop Fully Funded By Gloucestershire Primary Care Training Hub
URL:https://glosprimarycare.co.uk/cpd-training-events/confident-positive-patient-communication-in-primary-care/2026-04-30
CATEGORIES:ACP's,Administrators,Advanced Practitioners,AHPs,Business Managers,Caldicott Guardian,Care Coordinators,Clinical Director,Dietitian,Digital and Transformation Lead,FCP's,GP Assistant,GP Partners,GP Partners,GP Trainees,GPs,Health and Wellbeing Coaches,Health Care Assistants,Mental Health Practitioners,Musculoskeletal (MSK) First Contact Practitioners (Physiotherapists),Non-Medical Prescriber,Nurses,Nursing Associates,Occupational Therapists,Paramedics,PCN Education Lead,Pharmacists,Pharmacy Technicians,Physicians Associates,Podiatrists,Practice Managers,Prescribing Nurses,Receptionists,Social Prescribing Link Workers,Student Nursing Associates (SNA) (TNA - Student Nursing Associate (SNA) (TNA - Trainee Nursing Associate))
ATTACH;FMTTYPE=image/png:https://glosprimarycare.co.uk/wp-content/uploads/2026/04/Development-Pathway-Logo_pngV1.png
ORGANIZER;CN="Gloucestershire Primary Care Training Hub":MAILTO:glicb.pcwc@nhs.net
END:VEVENT
BEGIN:VEVENT
DTSTART;TZID=Europe/London:20260603T093000
DTEND;TZID=Europe/London:20260603T120000
DTSTAMP:20260424T123104
CREATED:20260423T131629Z
LAST-MODIFIED:20260423T133153Z
UID:10001586-1780479000-1780488000@glosprimarycare.co.uk
SUMMARY:Confident & Positive Patient Communication in Primary Care
DESCRIPTION:This practical workshop helps primary care teams understand how NHS changes and rising patient expectations affect everyday patient interactions. Participants explore how perceptions\, assumptions and the impact of change can influence communication and patient experience. The session explores practical skills such as positive language\, empathy and assertiveness to help staff communicate clearly\, guide patients effectively and hold boundaries professionally. \nFree Workshop Fully Funded By Gloucestershire Primary Care Training Hub
URL:https://glosprimarycare.co.uk/cpd-training-events/confident-positive-patient-communication-in-primary-care/2026-06-03
CATEGORIES:ACP's,Administrators,Advanced Practitioners,AHPs,Business Managers,Caldicott Guardian,Care Coordinators,Clinical Director,Dietitian,Digital and Transformation Lead,FCP's,GP Assistant,GP Partners,GP Partners,GP Trainees,GPs,Health and Wellbeing Coaches,Health Care Assistants,Mental Health Practitioners,Musculoskeletal (MSK) First Contact Practitioners (Physiotherapists),Non-Medical Prescriber,Nurses,Nursing Associates,Occupational Therapists,Paramedics,PCN Education Lead,Pharmacists,Pharmacy Technicians,Physicians Associates,Podiatrists,Practice Managers,Prescribing Nurses,Receptionists,Social Prescribing Link Workers,Student Nursing Associates (SNA) (TNA - Student Nursing Associate (SNA) (TNA - Trainee Nursing Associate))
ATTACH;FMTTYPE=image/png:https://glosprimarycare.co.uk/wp-content/uploads/2026/04/Development-Pathway-Logo_pngV1.png
ORGANIZER;CN="Gloucestershire Primary Care Training Hub":MAILTO:glicb.pcwc@nhs.net
END:VEVENT
BEGIN:VEVENT
DTSTART;TZID=Europe/London:20260617T093000
DTEND;TZID=Europe/London:20260617T120000
DTSTAMP:20260424T123104
CREATED:20260423T131629Z
LAST-MODIFIED:20260423T133153Z
UID:10001587-1781688600-1781697600@glosprimarycare.co.uk
SUMMARY:Confident & Positive Patient Communication in Primary Care
DESCRIPTION:This practical workshop helps primary care teams understand how NHS changes and rising patient expectations affect everyday patient interactions. Participants explore how perceptions\, assumptions and the impact of change can influence communication and patient experience. The session explores practical skills such as positive language\, empathy and assertiveness to help staff communicate clearly\, guide patients effectively and hold boundaries professionally. \nFree Workshop Fully Funded By Gloucestershire Primary Care Training Hub
URL:https://glosprimarycare.co.uk/cpd-training-events/confident-positive-patient-communication-in-primary-care/2026-06-17
CATEGORIES:ACP's,Administrators,Advanced Practitioners,AHPs,Business Managers,Caldicott Guardian,Care Coordinators,Clinical Director,Dietitian,Digital and Transformation Lead,FCP's,GP Assistant,GP Partners,GP Partners,GP Trainees,GPs,Health and Wellbeing Coaches,Health Care Assistants,Mental Health Practitioners,Musculoskeletal (MSK) First Contact Practitioners (Physiotherapists),Non-Medical Prescriber,Nurses,Nursing Associates,Occupational Therapists,Paramedics,PCN Education Lead,Pharmacists,Pharmacy Technicians,Physicians Associates,Podiatrists,Practice Managers,Prescribing Nurses,Receptionists,Social Prescribing Link Workers,Student Nursing Associates (SNA) (TNA - Student Nursing Associate (SNA) (TNA - Trainee Nursing Associate))
ATTACH;FMTTYPE=image/png:https://glosprimarycare.co.uk/wp-content/uploads/2026/04/Development-Pathway-Logo_pngV1.png
ORGANIZER;CN="Gloucestershire Primary Care Training Hub":MAILTO:glicb.pcwc@nhs.net
END:VEVENT
BEGIN:VEVENT
DTSTART;TZID=Europe/London:20260623T093000
DTEND;TZID=Europe/London:20260623T120000
DTSTAMP:20260424T123104
CREATED:20260423T131629Z
LAST-MODIFIED:20260423T133153Z
UID:10001588-1782207000-1782216000@glosprimarycare.co.uk
SUMMARY:Confident & Positive Patient Communication in Primary Care
DESCRIPTION:This practical workshop helps primary care teams understand how NHS changes and rising patient expectations affect everyday patient interactions. Participants explore how perceptions\, assumptions and the impact of change can influence communication and patient experience. The session explores practical skills such as positive language\, empathy and assertiveness to help staff communicate clearly\, guide patients effectively and hold boundaries professionally. \nFree Workshop Fully Funded By Gloucestershire Primary Care Training Hub
URL:https://glosprimarycare.co.uk/cpd-training-events/confident-positive-patient-communication-in-primary-care/2026-06-23
CATEGORIES:ACP's,Administrators,Advanced Practitioners,AHPs,Business Managers,Caldicott Guardian,Care Coordinators,Clinical Director,Dietitian,Digital and Transformation Lead,FCP's,GP Assistant,GP Partners,GP Partners,GP Trainees,GPs,Health and Wellbeing Coaches,Health Care Assistants,Mental Health Practitioners,Musculoskeletal (MSK) First Contact Practitioners (Physiotherapists),Non-Medical Prescriber,Nurses,Nursing Associates,Occupational Therapists,Paramedics,PCN Education Lead,Pharmacists,Pharmacy Technicians,Physicians Associates,Podiatrists,Practice Managers,Prescribing Nurses,Receptionists,Social Prescribing Link Workers,Student Nursing Associates (SNA) (TNA - Student Nursing Associate (SNA) (TNA - Trainee Nursing Associate))
ATTACH;FMTTYPE=image/png:https://glosprimarycare.co.uk/wp-content/uploads/2026/04/Development-Pathway-Logo_pngV1.png
ORGANIZER;CN="Gloucestershire Primary Care Training Hub":MAILTO:glicb.pcwc@nhs.net
END:VEVENT
END:VCALENDAR