BEGIN:VCALENDAR
VERSION:2.0
PRODID:-//Gloucestershire Primary Care Workforce Centre - ECPv6.15.17.1//NONSGML v1.0//EN
CALSCALE:GREGORIAN
METHOD:PUBLISH
X-ORIGINAL-URL:https://glosprimarycare.co.uk
X-WR-CALDESC:Events for Gloucestershire Primary Care Workforce Centre
REFRESH-INTERVAL;VALUE=DURATION:PT1H
X-Robots-Tag:noindex
X-PUBLISHED-TTL:PT1H
BEGIN:VTIMEZONE
TZID:Europe/London
BEGIN:DAYLIGHT
TZOFFSETFROM:+0000
TZOFFSETTO:+0100
TZNAME:BST
DTSTART:20250330T010000
END:DAYLIGHT
BEGIN:STANDARD
TZOFFSETFROM:+0100
TZOFFSETTO:+0000
TZNAME:GMT
DTSTART:20251026T010000
END:STANDARD
BEGIN:DAYLIGHT
TZOFFSETFROM:+0000
TZOFFSETTO:+0100
TZNAME:BST
DTSTART:20260329T010000
END:DAYLIGHT
BEGIN:STANDARD
TZOFFSETFROM:+0100
TZOFFSETTO:+0000
TZNAME:GMT
DTSTART:20261025T010000
END:STANDARD
BEGIN:DAYLIGHT
TZOFFSETFROM:+0000
TZOFFSETTO:+0100
TZNAME:BST
DTSTART:20270328T010000
END:DAYLIGHT
BEGIN:STANDARD
TZOFFSETFROM:+0100
TZOFFSETTO:+0000
TZNAME:GMT
DTSTART:20271031T010000
END:STANDARD
END:VTIMEZONE
BEGIN:VEVENT
DTSTART;TZID=Europe/London:20261106T090000
DTEND;TZID=Europe/London:20261106T170000
DTSTAMP:20260423T024733
CREATED:20260316T145508Z
LAST-MODIFIED:20260316T145508Z
UID:10001559-1793955600-1793984400@glosprimarycare.co.uk
SUMMARY:Medical Mindfulness Conference
DESCRIPTION:A one‑day conference bringing doctors together to explore wellbeing\, leadership\, and evidence‑based mindfulness in healthcare in Brighton. \nKeynote speaker: Professor Gwen Adshead (BBC Leith Lecturer)\nOverview\nThe event will explore how evidence‑based mindfulness and compassion can support doctors working under increasing pressure in healthcare systems. \nHosted by the Sussex Mindfulness Centre\, the programme brings together doctors\, medical leaders\, and educators to reflect on individual and systemic approaches to wellbeing. \nKeynote speaker Dr Gwen Adshead\, forensic psychiatrist and former BBC Reith Lecturer\, will share reflections from over 30 years of clinical practice\, including her experience of Mindfulness Based Cognitive Therapy. She is joined by national and international leaders in medical wellbeing\, mindfulness\, and system‑level change. \nThe day combines keynote talks\, personal perspectives\, and experiential workshops\, offering space for reflection\, learning\, and connection with colleagues. \nHeld at the Friends Meeting House in Brighton\, the conference offers a supportive environment to pause\, think\, and engage with others committed to caring for those who care for patients. \nWho is this for?\nThis conference is for doctors and managers working in the NHS\, whether you have an interest in improving wellbeing for your organisation\, team or for yourself it promises to be an inspiring\, informative and nourishing day. \nProgramme\nYou can download the full programme with all the talks and workshops. It includes the names and biographies of all the national and international speakers. Download your programme here. \nTickets\nEarly Bird tickets are £80 and available for a limited time. Once these are sold out\, the standard ticket price of £99 will apply. You can book your tickets by clicking on this link.
URL:https://glosprimarycare.co.uk/cpd-training-events/medical-mindfulness-conference
LOCATION:Friends Meeting House\, Ship Street\, Brighton\, BN1 1AF
CATEGORIES:Advanced Practitioners,AHPs,GP Assistant,GP Partners,GP Trainees,GPs
ATTACH;FMTTYPE=image/jpeg:https://glosprimarycare.co.uk/wp-content/uploads/2025/06/Social-Prescribing-Link-Worker-scaled.jpg
END:VEVENT
END:VCALENDAR